BEGIN:VCALENDAR
VERSION:2.0
PRODID:-//eventon.com NONSGML v1.0//EN
CALSCALE:GREGORIAN
METHOD:PUBLISH
BEGIN:VEVENT
UID:69ebb4dfbf72d
DTSTAMP:20260424T182223Z
DTSTART:20230820T030000Z
DTEND:20230820T080000Z
LOCATION:
SUMMARY:Exhibit A Popup
DESCRIPTION:Exhibit A Popup\nhttps://bbq-underground.com/events/exhibit-a-p
 opup-5/
URL:https://bbq-underground.com/events/exhibit-a-popup-5/
END:VEVENT
END:VCALENDAR