BEGIN:VCALENDAR
VERSION:2.0
PRODID:-//eventon.com NONSGML v1.0//EN
CALSCALE:GREGORIAN
METHOD:PUBLISH
BEGIN:VEVENT
UID:69e7aec6b09f3
DTSTAMP:20260421T170718Z
DTSTART:20231008T020000Z
DTEND:20231008T080000Z
LOCATION:
SUMMARY:Exhibit A Popup
DESCRIPTION:Exhibit A Popup\nhttps://bbq-underground.com/events/exhibit-a-p
 opup-7/
URL:https://bbq-underground.com/events/exhibit-a-popup-7/
END:VEVENT
END:VCALENDAR