BEGIN:VCALENDAR
VERSION:2.0
PRODID:-//eventon.com NONSGML v1.0//EN
CALSCALE:GREGORIAN
METHOD:PUBLISH
BEGIN:VEVENT
UID:69e652987cd1e
DTSTAMP:20260420T162144Z
DTSTART:20240127T020000Z
DTEND:20240127T070000Z
LOCATION:
SUMMARY:Redemption Rock Popup
DESCRIPTION:Some Cue in the Woo!\nhttps://bbq-underground.com/events/redemp
 tion-rock-popup-14/
URL:https://bbq-underground.com/events/redemption-rock-popup-14/
END:VEVENT
END:VCALENDAR