BEGIN:VCALENDAR
VERSION:2.0
PRODID:-//eventon.com NONSGML v1.0//EN
CALSCALE:GREGORIAN
METHOD:PUBLISH
BEGIN:VEVENT
UID:69e4ec4e51c3e
DTSTAMP:20260419T145302Z
DTSTART:20240216T160000Z
DTEND:20240216T200000Z
LOCATION:
SUMMARY:Redemption Rock Popup
DESCRIPTION:Redemption Rock Popup\nhttps://bbq-underground.com/events/redem
 ption-rock-popup-18/
URL:https://bbq-underground.com/events/redemption-rock-popup-18/
END:VEVENT
END:VCALENDAR