BEGIN:VCALENDAR
VERSION:2.0
PRODID:-//eventon.com NONSGML v1.0//EN
CALSCALE:GREGORIAN
METHOD:PUBLISH
BEGIN:VEVENT
UID:69e89c1e4953e
DTSTAMP:20260422T095958Z
DTSTART:20240629T150000Z
DTEND:20240629T200000Z
LOCATION:
SUMMARY:Redemption Rock Popup
DESCRIPTION:Redemption Rock Popup\nhttps://bbq-underground.com/events/redem
 ption-rock-popup-24/
URL:https://bbq-underground.com/events/redemption-rock-popup-24/
END:VEVENT
END:VCALENDAR