BEGIN:VCALENDAR
VERSION:2.0
PRODID:-//eventon.com NONSGML v1.0//EN
CALSCALE:GREGORIAN
METHOD:PUBLISH
BEGIN:VEVENT
UID:69e5e080238fe
DTSTAMP:20260420T081456Z
DTSTART:20240824T100000Z
DTEND:20240825T160000Z
LOCATION:
SUMMARY:Maple Hill Weekend Popup
DESCRIPTION:Maple Hill Weekend Popup\nhttps://bbq-underground.com/events/ma
 ple-hill-weekend-popup/
URL:https://bbq-underground.com/events/maple-hill-weekend-popup/
END:VEVENT
END:VCALENDAR