BEGIN:VCALENDAR
VERSION:2.0
PRODID:-//eventon.com NONSGML v1.0//EN
CALSCALE:GREGORIAN
METHOD:PUBLISH
BEGIN:VEVENT
UID:69e4f1393cab0
DTSTAMP:20260419T151401Z
DTSTART:20240827T170000Z
DTEND:20240827T200000Z
LOCATION:
SUMMARY:Private Catering at Redemption Rock
DESCRIPTION:Private Catering at Redemption Rock\nhttps://bbq-underground.co
 m/events/private-catering-at-redemption-rock/
URL:https://bbq-underground.com/events/private-catering-at-redemption-rock/
END:VEVENT
END:VCALENDAR