BEGIN:VCALENDAR
VERSION:2.0
PRODID:-//eventon.com NONSGML v1.0//EN
CALSCALE:GREGORIAN
METHOD:PUBLISH
BEGIN:VEVENT
UID:69e5b3374020f
DTSTAMP:20260420T050143Z
DTSTART:20260107T160000Z
DTEND:20260107T200000Z
LOCATION:
SUMMARY:Dirigible Brewery
DESCRIPTION:Littleton\,  MA\nhttps://bbq-underground.com/events/dirigible-b
 rewery/
URL:https://bbq-underground.com/events/dirigible-brewery/
END:VEVENT
END:VCALENDAR